BEGIN:VCALENDAR
VERSION:2.0
PRODID:SchoolNow
CALSCALE:GREGORIAN
BEGIN:VEVENT
UID:33d66c64-24de-11ee-ad47-028ca856f669
DTSTAMP:20230717T201206Z
SUMMARY:Spring 2024 Day/ Evening Instruction Begins/First 9 week classes be
 gin
URL;VALUE=URI:https://www.frc.edu/about/calendar/4500123/fall-2023-day-even
 ing-instruction-begings-first-9-week-classes-begin-clone
DTSTART;VALUE=DATE:20240122
DTEND;VALUE=DATE:20240123
END:VEVENT
END:VCALENDAR
