BEGIN:VCALENDAR
VERSION:2.0
PRODID:SchoolNow
CALSCALE:GREGORIAN
BEGIN:VEVENT
UID:e30dfdce-24dd-11ee-8b17-0acf471acd0d
DTSTAMP:20230717T200951Z
SUMMARY:Fall 2024 priority registration for Homeless/VETS/EOPS/DSPS/Foster 
 Youth/CalWorks/CARE
URL;VALUE=URI:https://www.frc.edu/about/calendar/4500120/spring-2023-priori
 ty-registration-for-homeless-vets-eops-dsps-foster-youth-calworks-care-clo
 ne-clone-clone
DTSTART;VALUE=DATE:20240408
DTEND;VALUE=DATE:20240411
END:VEVENT
END:VCALENDAR
