BEGIN:VCALENDAR
VERSION:2.0
PRODID:SchoolNow
CALSCALE:GREGORIAN
BEGIN:VEVENT
UID:dc287124-24dd-11ee-9837-0295a5caf447
DTSTAMP:20230717T200939Z
SUMMARY:Last day to drop second-half-semester classes without a "W”
URL;VALUE=URI:https://www.frc.edu/about/calendar/4500119/last-day-to-drop-s
 econd-half-semester-classes-without-a-w-clone-clone-clone
DTSTART;VALUE=DATE:20240409
DTEND;VALUE=DATE:20240410
END:VEVENT
END:VCALENDAR
