BEGIN:VCALENDAR
VERSION:2.0
PRODID:SchoolNow
CALSCALE:GREGORIAN
BEGIN:VEVENT
UID:cfe3d552-24dd-11ee-a241-0a1f18b7a9d9
DTSTAMP:20230717T200918Z
SUMMARY:Fall 2024 priority registration for TRIO
URL;VALUE=URI:https://www.frc.edu/about/calendar/4500118/spring-2023-priori
 ty-registration-for-trio-clone-clone-clone
DTSTART;VALUE=DATE:20240411
DTEND;VALUE=DATE:20240414
END:VEVENT
END:VCALENDAR
