BEGIN:VCALENDAR
VERSION:2.0
PRODID:SchoolNow
CALSCALE:GREGORIAN
BEGIN:VEVENT
UID:c70cf6c0-24dd-11ee-a911-0a58a9feac02
DTSTAMP:20230717T200904Z
SUMMARY:Fall 2024 registration for fully matriculated\, new and continuing 
 students begins
URL;VALUE=URI:https://www.frc.edu/about/calendar/4500117/spring-2023-regist
 ration-for-fully-matriculated-new-and-continuing-students-begins-clone-clo
 ne-clone
DTSTART;VALUE=DATE:20240414
DTEND;VALUE=DATE:20240415
END:VEVENT
END:VCALENDAR
