BEGIN:VCALENDAR
VERSION:2.0
PRODID:SchoolNow
CALSCALE:GREGORIAN
BEGIN:VEVENT
UID:bdcecd22-24dd-11ee-93e4-0a58a9feac02
DTSTAMP:20230717T200848Z
SUMMARY:Fall '24 graduates meet with Advisors to review petitions to gradua
 te
URL;VALUE=URI:https://www.frc.edu/about/calendar/4500116/spring-23-graduate
 s-meet-with-advisors-to-review-petitions-clone-clone
DTSTART;VALUE=DATE:20240415
DTEND;VALUE=DATE:20240416
END:VEVENT
END:VCALENDAR
