BEGIN:VCALENDAR
VERSION:2.0
PRODID:SchoolNow
CALSCALE:GREGORIAN
BEGIN:VEVENT
UID:b43a4278-24dd-11ee-bfe3-0295a5caf447
DTSTAMP:20230717T200832Z
SUMMARY:Last day to drop full-term classes with a "W”
URL;VALUE=URI:https://www.frc.edu/about/calendar/4500115/last-day-to-drop-f
 ull-term-classes-with-a-w-clone-clone
DTSTART;VALUE=DATE:20240426
DTEND;VALUE=DATE:20240427
END:VEVENT
END:VCALENDAR
