BEGIN:VCALENDAR
VERSION:2.0
PRODID:SchoolNow
CALSCALE:GREGORIAN
BEGIN:VEVENT
UID:84fe7ff6-24dd-11ee-8367-0a58a9feac02
DTSTAMP:20230717T200713Z
SUMMARY:Spring 2024 semester ends/second-half-semester ends/Finals make-up 
 day
URL;VALUE=URI:https://www.frc.edu/about/calendar/4500111/fall-2022-semester
 -ends-second-half-semester-ends-finals-make-up-day-clone-clone
DTSTART;VALUE=DATE:20240524
DTEND;VALUE=DATE:20240525
END:VEVENT
END:VCALENDAR
