BEGIN:VCALENDAR
VERSION:2.0
PRODID:SchoolNow
CALSCALE:GREGORIAN
BEGIN:VEVENT
UID:84671e28-24d7-11ee-b87d-0a58a9feac02
DTSTAMP:20230717T192415Z
SUMMARY:Summer 2024 registration begins
URL;VALUE=URI:https://www.frc.edu/about/calendar/4500089/summer-2024-regist
 ration-begins
DTSTART;VALUE=DATE:20240408
DTEND;VALUE=DATE:20240409
END:VEVENT
END:VCALENDAR
