BEGIN:VCALENDAR
VERSION:2.0
PRODID:SchoolNow
CALSCALE:GREGORIAN
BEGIN:VEVENT
UID:e813ffbe-24d6-11ee-b4f9-0a58a9feac02
DTSTAMP:20230717T191953Z
SUMMARY:HOLIDAY - Memorial Day - CAMPUS CLOSED
URL;VALUE=URI:https://www.frc.edu/about/calendar/4500079/holiday-memorial-d
 ay-campus-closed-clone
DTSTART;VALUE=DATE:20240527
DTEND;VALUE=DATE:20240528
END:VEVENT
END:VCALENDAR
