BEGIN:VCALENDAR
VERSION:2.0
PRODID:SchoolNow
CALSCALE:GREGORIAN
BEGIN:VEVENT
UID:ddb6937e-24d6-11ee-ae52-0a58a9feac02
DTSTAMP:20230717T191935Z
SUMMARY:Last day to change grading option between Grade or Pass/No Pass for
  full term classes
URL;VALUE=URI:https://www.frc.edu/about/calendar/4500078/last-day-to-change
 -grading-option-between-grade-or-pass-no-pass-for-full-term-classes
DTSTART;VALUE=DATE:20231208
DTEND;VALUE=DATE:20231209
END:VEVENT
END:VCALENDAR
