BEGIN:VCALENDAR
VERSION:2.0
PRODID:SchoolNow
CALSCALE:GREGORIAN
BEGIN:VEVENT
UID:9e8e8be8-24d6-11ee-8db3-0aadd017873f
DTSTAMP:20230717T191749Z
SUMMARY:Last day to drop second-half-semester classes without a "W”
URL;VALUE=URI:https://www.frc.edu/about/calendar/4500075/last-day-to-drop-s
 econd-half-semester-classes-without-a-w-clone-clone
DTSTART;VALUE=DATE:20231031
DTEND;VALUE=DATE:20231101
END:VEVENT
END:VCALENDAR
