BEGIN:VCALENDAR
VERSION:2.0
PRODID:SchoolNow
CALSCALE:GREGORIAN
BEGIN:VEVENT
UID:97202f42-24d6-11ee-813d-0a58a9feac02
DTSTAMP:20240315T212649Z
SUMMARY:Day in the Mountains (DITM)
LOCATION:Feather River College Campus
URL;VALUE=URI:https://www.frc.edu/about/calendar/4500074/day-in-the-mountai
 ns-day-1-clone
DTSTART:20240419T170000Z
DTEND:20240419T230000Z
END:VEVENT
END:VCALENDAR
