BEGIN:VCALENDAR
VERSION:2.0
PRODID:SchoolNow
CALSCALE:GREGORIAN
BEGIN:VEVENT
UID:7ab4db32-24d6-11ee-80c4-0a58a9feac02
DTSTAMP:20230717T191649Z
SUMMARY:Spring '24 graduates meet with Advisors to review petitions to grad
 uate as they are due February 3\, 2024
URL;VALUE=URI:https://www.frc.edu/about/calendar/4500072/spring-23-graduate
 s-meet-with-advisors-to-review-petitions-clone
DTSTART;VALUE=DATE:20231030
DTEND;VALUE=DATE:20231031
END:VEVENT
END:VCALENDAR
