BEGIN:VCALENDAR
VERSION:2.0
PRODID:SchoolNow
CALSCALE:GREGORIAN
BEGIN:VEVENT
UID:7072b1b2-24d6-11ee-a539-0a58a9feac02
DTSTAMP:20230717T191632Z
SUMMARY:SPRING BREAK - NO CLASSES HELD
URL;VALUE=URI:https://www.frc.edu/about/calendar/4500071/spring-break-no-cl
 asses-held-clone
DTSTART:20240401T150000Z
DTEND:20240406T000000Z
END:VEVENT
END:VCALENDAR
