BEGIN:VCALENDAR
VERSION:2.0
PRODID:SchoolNow
CALSCALE:GREGORIAN
BEGIN:VEVENT
UID:1d0ef6b6-24d6-11ee-9a77-0a58a9feac02
DTSTAMP:20230717T191412Z
SUMMARY:CENSUS for second 8-week classes
URL;VALUE=URI:https://www.frc.edu/about/calendar/4500069/census-for-2nd-8-w
 eek-classes-clone-clone
DTSTART;VALUE=DATE:20240410
DTEND;VALUE=DATE:20240411
END:VEVENT
END:VCALENDAR
