BEGIN:VCALENDAR
VERSION:2.0
PRODID:SchoolNow
CALSCALE:GREGORIAN
BEGIN:VEVENT
UID:e5263034-24d5-11ee-942a-0a1f18b7a9d9
DTSTAMP:20230717T191238Z
SUMMARY:HOLIDAY - Washington's Birthday - CAMPUS CLOSED
URL;VALUE=URI:https://www.frc.edu/about/calendar/4500064/holiday-washington
 s-birthday-campus-closed-clone
DTSTART;VALUE=DATE:20240219
DTEND;VALUE=DATE:20240220
END:VEVENT
END:VCALENDAR
