BEGIN:VCALENDAR
VERSION:2.0
PRODID:SchoolNow
CALSCALE:GREGORIAN
BEGIN:VEVENT
UID:cc48bb22-24d5-11ee-9762-0a58a9feac02
DTSTAMP:20240130T225231Z
SUMMARY:HOLIDAY - Observance of President's Day - CAMPUS CLOSED
URL;VALUE=URI:https://www.frc.edu/about/calendar/4500061/holiday-presidents
 -day-campus-closed-clone
DTSTART;VALUE=DATE:20240209
DTEND;VALUE=DATE:20240210
END:VEVENT
END:VCALENDAR
