BEGIN:VCALENDAR
VERSION:2.0
PRODID:SchoolNow
CALSCALE:GREGORIAN
BEGIN:VEVENT
UID:b8d8df5e-24d5-11ee-ad04-0ef8f5e949dd
DTSTAMP:20230717T191124Z
SUMMARY:Spring 2024 priority registration for TRIO
URL;VALUE=URI:https://www.frc.edu/about/calendar/4500060/spring-2023-priori
 ty-registration-for-trio-clone-clone
DTSTART;VALUE=DATE:20231026
DTEND;VALUE=DATE:20231029
END:VEVENT
END:VCALENDAR
