BEGIN:VCALENDAR
VERSION:2.0
PRODID:SchoolNow
CALSCALE:GREGORIAN
BEGIN:VEVENT
UID:b81be228-24d5-11ee-a10f-0aadd017873f
DTSTAMP:20230717T191123Z
SUMMARY:CENSUS for full-term classes
URL;VALUE=URI:https://www.frc.edu/about/calendar/4500059/census-for-full-te
 rm-classes-clone-clone
DTSTART;VALUE=DATE:20240205
DTEND;VALUE=DATE:20240206
END:VEVENT
END:VCALENDAR
