BEGIN:VCALENDAR
VERSION:2.0
PRODID:SchoolNow
CALSCALE:GREGORIAN
BEGIN:VEVENT
UID:a1f16a4a-24d5-11ee-bd28-0a58a9feac02
DTSTAMP:20230717T191045Z
SUMMARY:CENSUS for first 9-week classes
URL;VALUE=URI:https://www.frc.edu/about/calendar/4500057/census-for-2nd-8-w
 eek-classes-clone-clone
DTSTART;VALUE=DATE:20240201
DTEND;VALUE=DATE:20240202
END:VEVENT
END:VCALENDAR
