BEGIN:VCALENDAR
VERSION:2.0
PRODID:SchoolNow
CALSCALE:GREGORIAN
BEGIN:VEVENT
UID:9eda5376-24d5-11ee-a4a3-0a1f18b7a9d9
DTSTAMP:20230717T191040Z
SUMMARY:Spring 2024 priority registration for Homeless/VETS/EOPS/DSPS/Foste
 r Youth/CalWorks/CARE
URL;VALUE=URI:https://www.frc.edu/about/calendar/4500056/spring-2023-priori
 ty-registration-for-homeless-vets-eops-dsps-foster-youth-calworks-care-clo
 ne-clone
DTSTART;VALUE=DATE:20231023
DTEND;VALUE=DATE:20231026
END:VEVENT
END:VCALENDAR
