BEGIN:VCALENDAR
VERSION:2.0
PRODID:SchoolNow
CALSCALE:GREGORIAN
BEGIN:VEVENT
UID:6487221c-24d5-11ee-b923-0a58a9feac02
DTSTAMP:20230717T190902Z
SUMMARY:First-half-semester classes ends
URL;VALUE=URI:https://www.frc.edu/about/calendar/4500051/first-half-semeste
 r-classes-end-clone
DTSTART;VALUE=DATE:20231020
DTEND;VALUE=DATE:20231021
END:VEVENT
END:VCALENDAR
