BEGIN:VCALENDAR
VERSION:2.0
PRODID:SchoolNow
CALSCALE:GREGORIAN
BEGIN:VEVENT
UID:5609377a-24d5-11ee-8776-028ca856f669
DTSTAMP:20230717T190909Z
SUMMARY:Institutional Day
URL;VALUE=URI:https://www.frc.edu/about/calendar/4500049/institutional-day-
 clone
DTSTART:20240118T163000Z
DTEND:20240118T193000Z
END:VEVENT
END:VCALENDAR
