BEGIN:VCALENDAR
VERSION:2.0
PRODID:SchoolNow
CALSCALE:GREGORIAN
BEGIN:VEVENT
UID:34480922-24d5-11ee-882f-0ad72e39358f
DTSTAMP:20230717T190741Z
SUMMARY:Faculty Structured Flex Days
URL;VALUE=URI:https://www.frc.edu/about/calendar/4500046/faculty-structured
 -flex-days-clone-clone
DTSTART:20240116T160000Z
DTEND:20240118T010000Z
END:VEVENT
END:VCALENDAR
