BEGIN:VCALENDAR
VERSION:2.0
PRODID:SchoolNow
CALSCALE:GREGORIAN
BEGIN:VEVENT
UID:274814d8-24d5-11ee-b55d-0ad72e39358f
DTSTAMP:20230717T190720Z
SUMMARY:Faculty Structured Flex Days
URL;VALUE=URI:https://www.frc.edu/about/calendar/4500045/faculty-structured
 -flex-days-clone-clone
DTSTART:20240111T160000Z
DTEND:20240113T010000Z
END:VEVENT
END:VCALENDAR
