BEGIN:VCALENDAR
VERSION:2.0
PRODID:SchoolNow
CALSCALE:GREGORIAN
BEGIN:VEVENT
UID:093d661e-24d5-11ee-aa67-0e938aba3f39
DTSTAMP:20230717T190629Z
SUMMARY:HOLIDAY RECESS - CAMPUS CLOSED
URL;VALUE=URI:https://www.frc.edu/about/calendar/4500042/holiday-recess-cam
 pus-closed-clone
DTSTART:20231222T160000Z
DTEND:20240102T010000Z
END:VEVENT
END:VCALENDAR
