BEGIN:VCALENDAR
VERSION:2.0
PRODID:SchoolNow
CALSCALE:GREGORIAN
BEGIN:VEVENT
UID:d9f6ca30-24d4-11ee-b2cf-0a58a9feac02
DTSTAMP:20230717T190510Z
SUMMARY:Last Day to Enroll/Add Full-Term Classes and Drop Full-Term Classes
  with 100% Refund
URL;VALUE=URI:https://www.frc.edu/about/calendar/4500039/last-day-to-enroll
 -add-full-term-classes-and-drop-full-term-classes-with-100-refund-clone
DTSTART;VALUE=DATE:20230901
DTEND;VALUE=DATE:20230902
END:VEVENT
END:VCALENDAR
