BEGIN:VCALENDAR
VERSION:2.0
PRODID:SchoolNow
CALSCALE:GREGORIAN
BEGIN:VEVENT
UID:baf9b232-24d4-11ee-9772-0a58a9feac02
DTSTAMP:20230717T190418Z
SUMMARY:Fall 2023 Day/ Evening Instruction Begins/First 9 week classes begi
 n
URL;VALUE=URI:https://www.frc.edu/about/calendar/4500037/fall-2023-day-even
 ing-instruction-begings-first-9-week-classes-begin
DTSTART;VALUE=DATE:20230821
DTEND;VALUE=DATE:20230822
END:VEVENT
END:VCALENDAR
