BEGIN:VCALENDAR
VERSION:2.0
PRODID:SchoolNow
CALSCALE:GREGORIAN
BEGIN:VEVENT
UID:6519160a-24d4-11ee-affb-0a58a9feac02
DTSTAMP:20230717T190154Z
SUMMARY:Last Day to Enroll in First 9-Week Classes and Drop First 9-Week Cl
 asses with 100% Refund
URL;VALUE=URI:https://www.frc.edu/about/calendar/4500033/last-day-to-enroll
 -in-first-9-week-classes-with-100-refund-clone
DTSTART;VALUE=DATE:20230825
DTEND;VALUE=DATE:20230826
END:VEVENT
END:VCALENDAR
