BEGIN:VCALENDAR
VERSION:2.0
PRODID:SchoolNow
CALSCALE:GREGORIAN
BEGIN:VEVENT
UID:f799c3fe-24d3-11ee-8916-0aadd017873f
DTSTAMP:20230717T185850Z
SUMMARY:HOLIDAY - Thanksgiving - CAMPUS CLOSED
URL;VALUE=URI:https://www.frc.edu/about/calendar/4500027/holiday-thanksgivi
 ng-campus-closed-clone
DTSTART:20231123T160000Z
DTEND:20231125T010000Z
END:VEVENT
END:VCALENDAR
