BEGIN:VCALENDAR
VERSION:2.0
PRODID:SchoolNow
CALSCALE:GREGORIAN
BEGIN:VEVENT
UID:e3fb57a4-24d3-11ee-a02f-0a58a9feac02
DTSTAMP:20230717T185817Z
SUMMARY:All grades due by 4:00 p.m.
URL;VALUE=URI:https://www.frc.edu/about/calendar/4500025/all-grades-due-by-
 4-00-p-m-clone
DTSTART;VALUE=DATE:20231218
DTEND;VALUE=DATE:20231219
END:VEVENT
END:VCALENDAR
