BEGIN:VCALENDAR
VERSION:2.0
PRODID:SchoolNow
CALSCALE:GREGORIAN
BEGIN:VEVENT
UID:dc90ddf4-24d3-11ee-8e63-0a58a9feac02
DTSTAMP:20230717T185805Z
SUMMARY:MINIMUM DAY FOR INSTRUCTION - CLASSES WILL BE HELD UNTIL 1:00 PM
URL;VALUE=URI:https://www.frc.edu/about/calendar/4500023/minimum-day-for-in
 struction-classes-will-be-held-until-1-00-pm-clone
DTSTART;VALUE=DATE:20231122
DTEND;VALUE=DATE:20231123
END:VEVENT
END:VCALENDAR
