BEGIN:VCALENDAR
VERSION:2.0
PRODID:SchoolNow
CALSCALE:GREGORIAN
BEGIN:VEVENT
UID:bafd5a32-24d3-11ee-a0bf-0a58a9feac02
DTSTAMP:20230717T185708Z
SUMMARY:HOLIDAY - Veterans Day - CAMPUS CLOSED
URL;VALUE=URI:https://www.frc.edu/about/calendar/4500022/holiday-veterans-d
 ay-campus-closed-clone
DTSTART;VALUE=DATE:20231110
DTEND;VALUE=DATE:20231111
END:VEVENT
END:VCALENDAR
