BEGIN:VCALENDAR
VERSION:2.0
PRODID:SchoolNow
CALSCALE:GREGORIAN
BEGIN:VEVENT
UID:9cb60808-24d3-11ee-8fe1-028ca856f669
DTSTAMP:20230717T191315Z
SUMMARY:CENSUS for second 8-week classes
URL;VALUE=URI:https://www.frc.edu/about/calendar/4500019/census-for-2nd-8-w
 eek-classes-clone
DTSTART;VALUE=DATE:20231101
DTEND;VALUE=DATE:20231102
END:VEVENT
END:VCALENDAR
