BEGIN:VCALENDAR
VERSION:2.0
PRODID:SchoolNow
CALSCALE:GREGORIAN
BEGIN:VEVENT
UID:aa022eac-24d2-11ee-a691-0a58a9feac02
DTSTAMP:20230717T184930Z
SUMMARY:Last day to drop second-half-semester classes with a “W”
URL;VALUE=URI:https://www.frc.edu/about/calendar/4499975/last-day-to-drop-s
 econd-half-semester-classes-with-a-w-clone-clone
DTSTART;VALUE=DATE:20231122
DTEND;VALUE=DATE:20231123
END:VEVENT
END:VCALENDAR
