BEGIN:VCALENDAR
VERSION:2.0
PRODID:SchoolNow
CALSCALE:GREGORIAN
BEGIN:VEVENT
UID:f40ad914-24d1-11ee-b5aa-0295a5caf447
DTSTAMP:20230717T184425Z
SUMMARY:Summer 2023 semester ends
URL;VALUE=URI:https://www.frc.edu/about/calendar/4499971/summer-2023-semest
 er-ends
DTSTART;VALUE=DATE:20230820
DTEND;VALUE=DATE:20230821
END:VEVENT
END:VCALENDAR
