BEGIN:VCALENDAR
VERSION:2.0
PRODID:SchoolNow
CALSCALE:GREGORIAN
BEGIN:VEVENT
UID:fa15b802-24cb-11ee-985e-0eba6d075b99
DTSTAMP:20230717T180158Z
SUMMARY:Faculty Structured Flex Day (No Classes)
URL;VALUE=URI:https://www.frc.edu/about/calendar/4499942/faculty-structured
 -flex-days-clone-clone-clone
DTSTART;VALUE=DATE:20231010
DTEND;VALUE=DATE:20231011
END:VEVENT
END:VCALENDAR
