BEGIN:VCALENDAR
VERSION:2.0
PRODID:SchoolNow
CALSCALE:GREGORIAN
BEGIN:VEVENT
UID:d18366c8-24cb-11ee-82c5-0e938aba3f39
DTSTAMP:20230717T180030Z
SUMMARY:CENSUS for full-term classes
URL;VALUE=URI:https://www.frc.edu/about/calendar/4499941/census-for-full-te
 rm-classes-clone
DTSTART;VALUE=DATE:20230905
DTEND;VALUE=DATE:20230906
END:VEVENT
END:VCALENDAR
