BEGIN:VCALENDAR
VERSION:2.0
PRODID:SchoolNow
CALSCALE:GREGORIAN
BEGIN:VEVENT
UID:abaeb236-24cb-11ee-b21f-0acf471acd0d
DTSTAMP:20230717T175927Z
SUMMARY:HOLIDAY - Labor Day - CAMPUS CLOSED
URL;VALUE=URI:https://www.frc.edu/about/calendar/4499940/holiday-labor-day-
 campus-closed-clone
DTSTART;VALUE=DATE:20230904
DTEND;VALUE=DATE:20230905
END:VEVENT
END:VCALENDAR
