BEGIN:VCALENDAR
VERSION:2.0
PRODID:SchoolNow
CALSCALE:GREGORIAN
BEGIN:VEVENT
UID:8c09513e-24cb-11ee-9175-0e938aba3f39
DTSTAMP:20230717T175834Z
SUMMARY:CENSUS for first 9-week classes
URL;VALUE=URI:https://www.frc.edu/about/calendar/4499939/census-for-2nd-8-w
 eek-classes-clone
DTSTART;VALUE=DATE:20230831
DTEND;VALUE=DATE:20230901
END:VEVENT
END:VCALENDAR
