BEGIN:VCALENDAR
VERSION:2.0
PRODID:SchoolNow
CALSCALE:GREGORIAN
BEGIN:VEVENT
UID:eefbf644-24ca-11ee-9039-0a58a9feac02
DTSTAMP:20230817T190644Z
SUMMARY:New Student Orientation
URL;VALUE=URI:https://www.frc.edu/about/calendar/4499938/new-student-orient
 ation-clone-clone-clone
DTSTART:20230818T154500Z
DTEND:20230818T203000Z
END:VEVENT
END:VCALENDAR
