BEGIN:VCALENDAR
VERSION:2.0
PRODID:SchoolNow
CALSCALE:GREGORIAN
BEGIN:VEVENT
UID:54362f94-24ca-11ee-97da-0a58a9feac02
DTSTAMP:20230717T174950Z
SUMMARY:Institutional Day
URL;VALUE=URI:https://www.frc.edu/about/calendar/4499936/institutional-day-
 clone
DTSTART:20230816T153000Z
DTEND:20230816T183000Z
END:VEVENT
END:VCALENDAR
