BEGIN:VCALENDAR
VERSION:2.0
PRODID:SchoolNow
CALSCALE:GREGORIAN
BEGIN:VEVENT
UID:464bfdc8-24ca-11ee-a233-028a1a3bf985
DTSTAMP:20230717T174927Z
SUMMARY:Faculty Structured Flex Day
URL;VALUE=URI:https://www.frc.edu/about/calendar/4499935/faculty-structured
 -flex-days-clone-clone
DTSTART:20230817T150000Z
DTEND:20230818T000000Z
END:VEVENT
END:VCALENDAR
