BEGIN:VCALENDAR
VERSION:2.0
PRODID:SchoolNow
CALSCALE:GREGORIAN
BEGIN:VEVENT
UID:3bf89584-24ca-11ee-8c45-0a58a9feac02
DTSTAMP:20230717T174910Z
SUMMARY:Faculty Structured Flex Days
URL;VALUE=URI:https://www.frc.edu/about/calendar/4499934/faculty-structured
 -flex-days-clone
DTSTART:20230814T150000Z
DTEND:20230816T000000Z
END:VEVENT
END:VCALENDAR
