BEGIN:VCALENDAR
VERSION:2.0
PRODID:SchoolNow
CALSCALE:GREGORIAN
BEGIN:VEVENT
UID:b7338bb0-24c9-11ee-a590-0a58a9feac02
DTSTAMP:20230717T174527Z
SUMMARY:HOLIDAY - 4th of July - CAMPUS CLOSED
URL;VALUE=URI:https://www.frc.edu/about/calendar/4499933/holiday-4th-of-jul
 y-campus-closed-clone
DTSTART;VALUE=DATE:20230704
DTEND;VALUE=DATE:20230705
END:VEVENT
END:VCALENDAR
