BEGIN:VCALENDAR
VERSION:2.0
PRODID:SchoolNow
CALSCALE:GREGORIAN
BEGIN:VEVENT
UID:4d96175e-24c9-11ee-9bd7-0a58a9feac02
DTSTAMP:20230717T174230Z
SUMMARY:May Time Sheets Due
URL;VALUE=URI:https://www.frc.edu/about/calendar/4499930/june-time-sheets-d
 ue-clone-clone-clone-clone-clone-clone-clone-clone-clone-clone-clone-clone
 -clone-clone-clone-clone-clone-clone-clone-clone-clone-clone-clone-clone
DTSTART;VALUE=DATE:20240531
DTEND;VALUE=DATE:20240601
END:VEVENT
END:VCALENDAR
