BEGIN:VCALENDAR
VERSION:2.0
PRODID:SchoolNow
CALSCALE:GREGORIAN
BEGIN:VEVENT
UID:40b58cfe-24c9-11ee-abb9-0eba6d075b99
DTSTAMP:20230717T174208Z
SUMMARY:April Time Sheets Due
URL;VALUE=URI:https://www.frc.edu/about/calendar/4499929/june-time-sheets-d
 ue-clone-clone-clone-clone-clone-clone-clone-clone-clone-clone-clone-clone
 -clone-clone-clone-clone-clone-clone-clone-clone-clone-clone-clone
DTSTART;VALUE=DATE:20240430
DTEND;VALUE=DATE:20240501
END:VEVENT
END:VCALENDAR
