BEGIN:VCALENDAR
VERSION:2.0
PRODID:SchoolNow
CALSCALE:GREGORIAN
BEGIN:VEVENT
UID:343b8f1e-24c9-11ee-ad63-0a58a9feac02
DTSTAMP:20230717T174147Z
SUMMARY:March Time Sheets Due
URL;VALUE=URI:https://www.frc.edu/about/calendar/4499928/june-time-sheets-d
 ue-clone-clone-clone-clone-clone-clone-clone-clone-clone-clone-clone-clone
 -clone-clone-clone-clone-clone-clone-clone-clone-clone-clone
DTSTART;VALUE=DATE:20230331
DTEND;VALUE=DATE:20230401
END:VEVENT
END:VCALENDAR
