BEGIN:VCALENDAR
VERSION:2.0
PRODID:SchoolNow
CALSCALE:GREGORIAN
BEGIN:VEVENT
UID:29b8ce4e-24c9-11ee-b8ed-0ef8f5e949dd
DTSTAMP:20230717T174130Z
SUMMARY:February Time Sheets Due
URL;VALUE=URI:https://www.frc.edu/about/calendar/4499927/june-time-sheets-d
 ue-clone-clone-clone-clone-clone-clone-clone-clone-clone-clone-clone-clone
 -clone-clone-clone-clone-clone-clone-clone-clone-clone
DTSTART;VALUE=DATE:20240229
DTEND;VALUE=DATE:20240301
END:VEVENT
END:VCALENDAR
